View In:
ArcGIS JavaScript
ArcGIS Online Map Viewer
ArcGIS Earth
Service Description: MrSID22
Name: MrSID22
Description:
Single Fused Map Cache: false
Extent:
XMin: 2422207
YMin: 226739
XMax: 2571000
YMax: 314989.25
Spatial Reference: PROJCS["NAD_1983_2011_StatePlane_Wisconsin_South_FIPS_4803_Ft_US",GEOGCS["GCS_NAD_1983_2011",DATUM["D_NAD_1983_2011",SPHEROID["GRS_1980",6378137.0,298.257222101]],PRIMEM["Greenwich",0.0],UNIT["Degree",0.0174532925199433]],PROJECTION["Lambert_Conformal_Conic"],PARAMETER["False_Easting",1968500.0],PARAMETER["False_Northing",0.0],PARAMETER["Central_Meridian",-90.0],PARAMETER["Standard_Parallel_1",42.73333333333333],PARAMETER["Standard_Parallel_2",44.06666666666667],PARAMETER["Latitude_Of_Origin",42.0],UNIT["Foot_US",0.3048006096012192]],VERTCS["VCS Name = NAVD88 height - Geoid12B (ftUS)|Datum Name = North American Vertical",VDATUM["North American Vertical Datum 1988"],PARAMETER["Vertical_Shift",0.0],PARAMETER["Direction",1.0],UNIT["US survey foot",0.3048006096012192]]
Initial Extent:
XMin: 2422207
YMin: 226739
XMax: 2571000
YMax: 314989.25
Spatial Reference: PROJCS["NAD_1983_2011_StatePlane_Wisconsin_South_FIPS_4803_Ft_US",GEOGCS["GCS_NAD_1983_2011",DATUM["D_NAD_1983_2011",SPHEROID["GRS_1980",6378137.0,298.257222101]],PRIMEM["Greenwich",0.0],UNIT["Degree",0.0174532925199433]],PROJECTION["Lambert_Conformal_Conic"],PARAMETER["False_Easting",1968500.0],PARAMETER["False_Northing",0.0],PARAMETER["Central_Meridian",-90.0],PARAMETER["Standard_Parallel_1",42.73333333333333],PARAMETER["Standard_Parallel_2",44.06666666666667],PARAMETER["Latitude_Of_Origin",42.0],UNIT["Foot_US",0.3048006096012192]],VERTCS["VCS Name = NAVD88 height - Geoid12B (ftUS)|Datum Name = North American Vertical",VDATUM["North American Vertical Datum 1988"],PARAMETER["Vertical_Shift",0.0],PARAMETER["Direction",1.0],UNIT["US survey foot",0.3048006096012192]]
Full Extent:
XMin: 2422207
YMin: 226739
XMax: 2571000
YMax: 314989.25
Spatial Reference: PROJCS["NAD_1983_2011_StatePlane_Wisconsin_South_FIPS_4803_Ft_US",GEOGCS["GCS_NAD_1983_2011",DATUM["D_NAD_1983_2011",SPHEROID["GRS_1980",6378137.0,298.257222101]],PRIMEM["Greenwich",0.0],UNIT["Degree",0.0174532925199433]],PROJECTION["Lambert_Conformal_Conic"],PARAMETER["False_Easting",1968500.0],PARAMETER["False_Northing",0.0],PARAMETER["Central_Meridian",-90.0],PARAMETER["Standard_Parallel_1",42.73333333333333],PARAMETER["Standard_Parallel_2",44.06666666666667],PARAMETER["Latitude_Of_Origin",42.0],UNIT["Foot_US",0.3048006096012192]],VERTCS["VCS Name = NAVD88 height - Geoid12B (ftUS)|Datum Name = North American Vertical",VDATUM["North American Vertical Datum 1988"],PARAMETER["Vertical_Shift",0.0],PARAMETER["Direction",1.0],UNIT["US survey foot",0.3048006096012192]]
Pixel Size X: 0.25
Pixel Size Y: 0.25
Band Count: 5
Pixel Type: U8
RasterFunction Infos: {"rasterFunctionInfos": [{
"name": "None",
"description": "",
"help": ""
}]}
Mensuration Capabilities: None
Inspection Capabilities:
Has Histograms: true
Has Colormap: false
Has Multi Dimensions : false
Rendering Rule:
Min Scale: 0
Max Scale: 0
Copyright Text:
Service Data Type: esriImageServiceDataTypeGeneric
Min Values: 2, 2, 2, 2, 0
Max Values: 255, 255, 255, 255, 255
Mean Values: 100.15963233255901, 98.82413058389984, 93.76993451802353, 112.26707561990398, 247.52292650166027
Standard Deviation Values: 42.67746943342293, 40.32880892120361, 40.11963948507559, 46.09331348898677, 42.89734586629005
Object ID Field: OBJECTID
Fields:
-
OBJECTID
(
type: esriFieldTypeOID, alias: OBJECTID
)
-
Name
(
type: esriFieldTypeString, alias: Name, length: 200
)
-
MinPS
(
type: esriFieldTypeDouble, alias: MinPS
)
-
MaxPS
(
type: esriFieldTypeDouble, alias: MaxPS
)
-
LowPS
(
type: esriFieldTypeDouble, alias: LowPS
)
-
HighPS
(
type: esriFieldTypeDouble, alias: HighPS
)
-
Category
(
type: esriFieldTypeInteger, alias: Category
, Coded Values:
[0: Unknown]
, [1: Primary]
, [2: Overview]
, ...5 more...
)
-
Tag
(
type: esriFieldTypeString, alias: Tag, length: 100
)
-
GroupName
(
type: esriFieldTypeString, alias: GroupName, length: 100
)
-
ProductName
(
type: esriFieldTypeString, alias: ProductName, length: 100
)
-
CenterX
(
type: esriFieldTypeDouble, alias: CenterX
)
-
CenterY
(
type: esriFieldTypeDouble, alias: CenterY
)
-
ZOrder
(
type: esriFieldTypeInteger, alias: ZOrder
)
-
Shape
(
type: esriFieldTypeGeometry, alias: Shape
)
-
Shape.STArea()
(
type: esriFieldTypeDouble, alias: Shape.STArea()
)
-
Shape.STLength()
(
type: esriFieldTypeDouble, alias: Shape.STLength()
)
Default Mosaic Method: Northwest
Allowed Mosaic Methods: NorthWest,Center,LockRaster,ByAttribute,Nadir,Viewpoint,Seamline,None
SortField:
SortValue: null
Mosaic Operator: First
Default Compression Quality: 75
Default Resampling Method: Bilinear
Max Record Count: 1000
Max Image Height: 4100
Max Image Width: 15000
Max Download Image Count: 20
Max Mosaic Image Count: 20
Allow Raster Function: true
Allow Copy: true
Allow Analysis: true
Allow Compute TiePoints: false
Supports Statistics: true
Supports Advanced Queries: true
Use StandardizedQueries: true
Raster Type Infos:
Name: Raster Dataset
Description: Supports all ArcGIS Raster Datasets
Help:
Has Raster Attribute Table: false
Edit Fields Info: null
Ownership Based AccessControl For Rasters: null
Child Resources:
Info
Histograms
Statistics
Key Properties
Legend
Raster Function Infos
Supported Operations:
Export Image
Query
Identify
Compute Histograms
Compute Statistics Histograms
Get Samples
Compute Class Statistics
Query GPS Info
Find Images
Image to Map
Map to Image
Measure from Image
Image to Map Multiray
Query Boundary
Compute Pixel Location
Compute Angles
Validate
Project